BEGIN:VCALENDAR
VERSION:2.0
PRODID:-//Kids Country - ECPv4.6.16//NONSGML v1.0//EN
CALSCALE:GREGORIAN
METHOD:PUBLISH
X-WR-CALNAME:Kids Country
X-ORIGINAL-URL:https://kidscountryinc.com
X-WR-CALDESC:Events for Kids Country
BEGIN:VEVENT
DTSTART;VALUE=DATE:20201005
DTEND;VALUE=DATE:20201006
DTSTAMP:20260421T103549
CREATED:20191122T222723Z
LAST-MODIFIED:20191122T222723Z
UID:3434-1601856000-1601942399@kidscountryinc.com
SUMMARY:Child Health Day
DESCRIPTION:
URL:https://kidscountryinc.com/event/child-health-day/
CATEGORIES:Calendar Only
END:VEVENT
END:VCALENDAR