BEGIN:VCALENDAR
VERSION:2.0
PRODID:-//Kids Country - ECPv4.6.16//NONSGML v1.0//EN
CALSCALE:GREGORIAN
METHOD:PUBLISH
X-WR-CALNAME:Kids Country
X-ORIGINAL-URL:https://kidscountryinc.com
X-WR-CALDESC:Events for Kids Country
BEGIN:VEVENT
DTSTART;VALUE=DATE:20200914
DTEND;VALUE=DATE:20200919
DTSTAMP:20260421T132625
CREATED:20191122T222600Z
LAST-MODIFIED:20191122T222600Z
UID:3430-1600041600-1600473599@kidscountryinc.com
SUMMARY:Child Passenger Safety Week
DESCRIPTION:
URL:https://kidscountryinc.com/event/child-passenger-safety-week/
CATEGORIES:Calendar Only
END:VEVENT
END:VCALENDAR