BEGIN:VCALENDAR
VERSION:2.0
PRODID:-//Kids Country - ECPv4.6.16//NONSGML v1.0//EN
CALSCALE:GREGORIAN
METHOD:PUBLISH
X-WR-CALNAME:Kids Country
X-ORIGINAL-URL:https://kidscountryinc.com
X-WR-CALDESC:Events for Kids Country
BEGIN:VEVENT
DTSTART;VALUE=DATE:20220201
DTEND;VALUE=DATE:20220202
DTSTAMP:20260421T120936
CREATED:20211221T161220Z
LAST-MODIFIED:20211221T161220Z
UID:18360-1643673600-1643759999@kidscountryinc.com
SUMMARY:Chinese New Year
DESCRIPTION:
URL:https://kidscountryinc.com/event/chinese-new-year/
CATEGORIES:Calendar Only
END:VEVENT
END:VCALENDAR