BEGIN:VCALENDAR
VERSION:2.0
PRODID:-//Kids Country - ECPv4.6.16//NONSGML v1.0//EN
CALSCALE:GREGORIAN
METHOD:PUBLISH
X-WR-CALNAME:Kids Country
X-ORIGINAL-URL:https://kidscountryinc.com
X-WR-CALDESC:Events for Kids Country
BEGIN:VEVENT
DTSTART;VALUE=DATE:20220510
DTEND;VALUE=DATE:20220511
DTSTAMP:20260421T235240
CREATED:20211221T162611Z
LAST-MODIFIED:20211221T162611Z
UID:18402-1652140800-1652227199@kidscountryinc.com
SUMMARY:Clean Up Your Room Day
DESCRIPTION:
URL:https://kidscountryinc.com/event/clean-room-day/
CATEGORIES:Calendar Only
END:VEVENT
END:VCALENDAR