BEGIN:VCALENDAR
VERSION:2.0
PRODID:-//Kids Country - ECPv4.6.16//NONSGML v1.0//EN
CALSCALE:GREGORIAN
METHOD:PUBLISH
X-WR-CALNAME:Kids Country
X-ORIGINAL-URL:https://kidscountryinc.com
X-WR-CALDESC:Events for Kids Country
BEGIN:VEVENT
DTSTART;VALUE=DATE:20220619
DTEND;VALUE=DATE:20220620
DTSTAMP:20260422T034735
CREATED:20211221T162944Z
LAST-MODIFIED:20211221T162944Z
UID:18420-1655596800-1655683199@kidscountryinc.com
SUMMARY:Father's Day
DESCRIPTION:
URL:https://kidscountryinc.com/event/fathers-day-3/
CATEGORIES:Calendar Only
END:VEVENT
END:VCALENDAR