BEGIN:VCALENDAR
VERSION:2.0
PRODID:-//Kids Country - ECPv4.6.16//NONSGML v1.0//EN
CALSCALE:GREGORIAN
METHOD:PUBLISH
X-WR-CALNAME:Kids Country
X-ORIGINAL-URL:https://kidscountryinc.com
X-WR-CALDESC:Events for Kids Country
BEGIN:VEVENT
DTSTART;VALUE=DATE:20220928
DTEND;VALUE=DATE:20220929
DTSTAMP:20260421T214147
CREATED:20211221T163927Z
LAST-MODIFIED:20211221T163927Z
UID:18477-1664323200-1664409599@kidscountryinc.com
SUMMARY:Good Neighbor Day
DESCRIPTION:
URL:https://kidscountryinc.com/event/good-neighbor-day/
CATEGORIES:Calendar Only
END:VEVENT
END:VCALENDAR