BEGIN:VCALENDAR
VERSION:2.0
PRODID:-//Kids Country - ECPv4.6.16//NONSGML v1.0//EN
CALSCALE:GREGORIAN
METHOD:PUBLISH
X-WR-CALNAME:Kids Country
X-ORIGINAL-URL:https://kidscountryinc.com
X-WR-CALDESC:Events for Kids Country
BEGIN:VEVENT
DTSTART;VALUE=DATE:20200913
DTEND;VALUE=DATE:20200914
DTSTAMP:20260421T151405
CREATED:20191122T222509Z
LAST-MODIFIED:20191122T222509Z
UID:3428-1599955200-1600041599@kidscountryinc.com
SUMMARY:Grandparents' Day
DESCRIPTION:
URL:https://kidscountryinc.com/event/grandparents-day/
CATEGORIES:Calendar Only
END:VEVENT
END:VCALENDAR