BEGIN:VCALENDAR
VERSION:2.0
PRODID:-//Kids Country - ECPv4.6.16//NONSGML v1.0//EN
CALSCALE:GREGORIAN
METHOD:PUBLISH
X-WR-CALNAME:Kids Country
X-ORIGINAL-URL:https://kidscountryinc.com
X-WR-CALDESC:Events for Kids Country
BEGIN:VEVENT
DTSTART;VALUE=DATE:20180824
DTEND;VALUE=DATE:20180825
DTSTAMP:20260421T122409
CREATED:20180731T230444Z
LAST-MODIFIED:20180731T230444Z
UID:1635-1535068800-1535155199@kidscountryinc.com
SUMMARY:Kid's Country Burien Family BBQ at Seahurst Park
DESCRIPTION:
URL:https://kidscountryinc.com/event/kids-country-burien-family-bbq-seahurst-park/
LOCATION:14400 Ambaum Blvd SW Suite R\, Seattle\, WA\, 98166\, United States
GEO:47.4735225;-122.3464142
X-APPLE-STRUCTURED-LOCATION;VALUE=URI;X-ADDRESS=14400 Ambaum Blvd SW Suite R Seattle WA 98166 United States;X-APPLE-RADIUS=500;X-TITLE=14400 Ambaum Blvd SW Suite R:geo:-122.3464142,47.4735225
CATEGORIES:Prospective Families, Events, Home
END:VEVENT
END:VCALENDAR