BEGIN:VCALENDAR
VERSION:2.0
PRODID:-//Kids Country - ECPv4.6.16//NONSGML v1.0//EN
CALSCALE:GREGORIAN
METHOD:PUBLISH
X-WR-CALNAME:Kids Country
X-ORIGINAL-URL:https://kidscountryinc.com
X-WR-CALDESC:Events for Kids Country
BEGIN:VEVENT
DTSTART;VALUE=DATE:20180825
DTEND;VALUE=DATE:20180826
DTSTAMP:20260421T085533
CREATED:20180731T230643Z
LAST-MODIFIED:20180731T230643Z
UID:1638-1535155200-1535241599@kidscountryinc.com
SUMMARY:Kid's Country Issaquah Back to School Block Party!
DESCRIPTION:
URL:https://kidscountryinc.com/event/kids-country-issaquah-back-school-block-party/
LOCATION:710 NW Gilman Blvd\, Issaquah\, WA\, 98027\, United States
GEO:47.5444304;-122.0475088
X-APPLE-STRUCTURED-LOCATION;VALUE=URI;X-ADDRESS=710 NW Gilman Blvd Issaquah WA 98027 United States;X-APPLE-RADIUS=500;X-TITLE=710 NW Gilman Blvd:geo:-122.0475088,47.5444304
CATEGORIES:Prospective Families, Events, Home
END:VEVENT
END:VCALENDAR