BEGIN:VCALENDAR
VERSION:2.0
PRODID:-//Kids Country - ECPv4.6.16//NONSGML v1.0//EN
CALSCALE:GREGORIAN
METHOD:PUBLISH
X-WR-CALNAME:Kids Country
X-ORIGINAL-URL:https://kidscountryinc.com
X-WR-CALDESC:Events for Kids Country
BEGIN:VEVENT
DTSTART;VALUE=DATE:20220117
DTEND;VALUE=DATE:20220118
DTSTAMP:20260421T090110
CREATED:20211221T160653Z
LAST-MODIFIED:20211221T160735Z
UID:18345-1642377600-1642463999@kidscountryinc.com
SUMMARY:Martin Luther King Jr. Day
DESCRIPTION:
URL:https://kidscountryinc.com/event/martin-luter-king-jr-day/
CATEGORIES:Calendar Only
END:VEVENT
END:VCALENDAR