BEGIN:VCALENDAR
VERSION:2.0
PRODID:-//Kids Country - ECPv4.6.16//NONSGML v1.0//EN
CALSCALE:GREGORIAN
METHOD:PUBLISH
X-WR-CALNAME:Kids Country
X-ORIGINAL-URL:https://kidscountryinc.com
X-WR-CALDESC:Events for Kids Country
BEGIN:VEVENT
DTSTART;VALUE=DATE:20220530
DTEND;VALUE=DATE:20220531
DTSTAMP:20260422T030316
CREATED:20211221T162655Z
LAST-MODIFIED:20211221T162655Z
UID:18408-1653868800-1653955199@kidscountryinc.com
SUMMARY:Memorial Day
DESCRIPTION:
URL:https://kidscountryinc.com/event/memorial-day-2/
CATEGORIES:Calendar Only
END:VEVENT
END:VCALENDAR