BEGIN:VCALENDAR
VERSION:2.0
PRODID:-//Kids Country - ECPv4.6.16//NONSGML v1.0//EN
CALSCALE:GREGORIAN
METHOD:PUBLISH
X-WR-CALNAME:Kids Country
X-ORIGINAL-URL:https://kidscountryinc.com
X-WR-CALDESC:Events for Kids Country
BEGIN:VEVENT
DTSTART;TZID=America/Los_Angeles:20220521T100000
DTEND;TZID=America/Los_Angeles:20220521T130000
DTSTAMP:20260422T013541
CREATED:20220502T201033Z
LAST-MODIFIED:20220502T201232Z
UID:24703-1653127200-1653138000@kidscountryinc.com
SUMMARY:Open House
DESCRIPTION:  \nOur literacy-themed Open House will have age-appropriate activities for the children\, snacks\, and a fun take-home activity for each family that attends. \n
URL:https://kidscountryinc.com/event/open-house/
CATEGORIES:Calendar Only,Prospective Families, Events, Home
END:VEVENT
END:VCALENDAR