BEGIN:VCALENDAR
VERSION:2.0
PRODID:-//Kids Country - ECPv4.6.16//NONSGML v1.0//EN
CALSCALE:GREGORIAN
METHOD:PUBLISH
X-WR-CALNAME:Kids Country
X-ORIGINAL-URL:https://kidscountryinc.com
X-WR-CALDESC:Events for Kids Country
BEGIN:VEVENT
DTSTART;VALUE=DATE:20220724
DTEND;VALUE=DATE:20220725
DTSTAMP:20260422T021334
CREATED:20211221T163402Z
LAST-MODIFIED:20211221T163402Z
UID:18441-1658620800-1658707199@kidscountryinc.com
SUMMARY:Parent's Day
DESCRIPTION:
URL:https://kidscountryinc.com/event/parents-day-2/
CATEGORIES:Calendar Only
END:VEVENT
END:VCALENDAR