BEGIN:VCALENDAR
VERSION:2.0
PRODID:-//Kids Country - ECPv4.6.16//NONSGML v1.0//EN
CALSCALE:GREGORIAN
METHOD:PUBLISH
X-WR-CALNAME:Kids Country
X-ORIGINAL-URL:https://kidscountryinc.com
X-WR-CALDESC:Events for Kids Country
BEGIN:VEVENT
DTSTART;VALUE=DATE:20220221
DTEND;VALUE=DATE:20220222
DTSTAMP:20260421T135024
CREATED:20211221T161317Z
LAST-MODIFIED:20211221T161317Z
UID:18366-1645401600-1645487999@kidscountryinc.com
SUMMARY:President's Day
DESCRIPTION:
URL:https://kidscountryinc.com/event/presidents-day-3/
CATEGORIES:Calendar Only
END:VEVENT
END:VCALENDAR