BEGIN:VCALENDAR
VERSION:2.0
PRODID:-//Kids Country - ECPv4.6.16//NONSGML v1.0//EN
CALSCALE:GREGORIAN
METHOD:PUBLISH
X-WR-CALNAME:Kids Country
X-ORIGINAL-URL:https://kidscountryinc.com
X-WR-CALDESC:Events for Kids Country
BEGIN:VEVENT
DTSTART;VALUE=DATE:20220410
DTEND;VALUE=DATE:20220411
DTSTAMP:20260421T171007
CREATED:20211221T161659Z
LAST-MODIFIED:20211221T161659Z
UID:18378-1649548800-1649635199@kidscountryinc.com
SUMMARY:Siblings Day
DESCRIPTION:
URL:https://kidscountryinc.com/event/siblings-day/
CATEGORIES:Calendar Only
END:VEVENT
END:VCALENDAR