BEGIN:VCALENDAR
VERSION:2.0
PRODID:-//Kids Country - ECPv4.6.16//NONSGML v1.0//EN
CALSCALE:GREGORIAN
METHOD:PUBLISH
X-WR-CALNAME:Kids Country
X-ORIGINAL-URL:https://kidscountryinc.com
X-WR-CALDESC:Events for Kids Country
BEGIN:VEVENT
DTSTART;VALUE=DATE:20200317
DTEND;VALUE=DATE:20200318
DTSTAMP:20260421T120248
CREATED:20191122T220526Z
LAST-MODIFIED:20191122T220526Z
UID:3394-1584403200-1584489599@kidscountryinc.com
SUMMARY:St. Patrick's Day
DESCRIPTION:
URL:https://kidscountryinc.com/event/st-patricks-day/
CATEGORIES:Calendar Only
END:VEVENT
END:VCALENDAR