BEGIN:VCALENDAR
VERSION:2.0
PRODID:-//Kids Country - ECPv4.6.16//NONSGML v1.0//EN
CALSCALE:GREGORIAN
METHOD:PUBLISH
X-WR-CALNAME:Kids Country
X-ORIGINAL-URL:https://kidscountryinc.com
X-WR-CALDESC:Events for Kids Country
BEGIN:VEVENT
DTSTART;VALUE=DATE:20200423
DTEND;VALUE=DATE:20200424
DTSTAMP:20260421T200808
CREATED:20191122T221051Z
LAST-MODIFIED:20191122T221051Z
UID:3402-1587600000-1587686399@kidscountryinc.com
SUMMARY:Take Your Daughter/Son to Work Day
DESCRIPTION:
URL:https://kidscountryinc.com/event/take-daughter-son-work-day/
CATEGORIES:Calendar Only,Prospective Families, Events, Home
END:VEVENT
END:VCALENDAR