BEGIN:VCALENDAR
VERSION:2.0
PRODID:-//Kids Country - ECPv4.6.16//NONSGML v1.0//EN
CALSCALE:GREGORIAN
METHOD:PUBLISH
X-WR-CALNAME:Kids Country
X-ORIGINAL-URL:https://kidscountryinc.com
X-WR-CALDESC:Events for Kids Country
BEGIN:VEVENT
DTSTART;VALUE=DATE:20220710
DTEND;VALUE=DATE:20220711
DTSTAMP:20260422T021927
CREATED:20211221T163308Z
LAST-MODIFIED:20211221T163320Z
UID:18435-1657411200-1657497599@kidscountryinc.com
SUMMARY:Teddy Bears Picnic Day
DESCRIPTION:
URL:https://kidscountryinc.com/event/teddy-bears-picnic-day/
CATEGORIES:Calendar Only
END:VEVENT
END:VCALENDAR