BEGIN:VCALENDAR
VERSION:2.0
PRODID:-//Kids Country - ECPv4.6.16//NONSGML v1.0//EN
CALSCALE:GREGORIAN
METHOD:PUBLISH
X-WR-CALNAME:Kids Country
X-ORIGINAL-URL:https://kidscountryinc.com
X-WR-CALDESC:Events for Kids Country
BEGIN:VEVENT
DTSTART;VALUE=DATE:20200413
DTEND;VALUE=DATE:20200418
DTSTAMP:20260421T151652
CREATED:20191122T220848Z
LAST-MODIFIED:20191122T220848Z
UID:3398-1586736000-1587167999@kidscountryinc.com
SUMMARY:Week of the Young Child
DESCRIPTION:
URL:https://kidscountryinc.com/event/week-young-child/
CATEGORIES:Calendar Only
END:VEVENT
END:VCALENDAR